Workbook

Sheet Formular
C5: =CHOOSE(Text!O1,Text!N2,Text!N3,Text!N4,Text!N5,Text!N6,Text!N7,Text!N8,Text!N9,Text!N10,Text!N11,Text!N12,Text!N13) -> English
C7: SURE (SUSTAINABLE RESOURCES Verification Scheme)
C8: =Text!A2 -> APPLICATION FORM
C9: =Text!A3 -> for inspection and certification for
C11: =Text!A4 -> approving sustainability according "Renewable Energy Directive" of European Commission (2018/2001)
C12: =Text!A5 -> With this form you can request a tentative offer. | U12: xc
C14: =Text!A7 -> name and legal form of the applying company | F14: =Text!A9 -> company address
C15: =Text!A8 -> (Please enter the complete company name) | F15: =Text!A10 -> (Street, postcode, city, state, post office box)
C17: =Text!A11 -> legal representative of the company | F17: =Text!A13 -> contact person in the company
C18: =Text!A12 -> (Name and function) | F18: =Text!A14 -> (Please specify where not identical with the legal representative)
C20: =Text!A15 -> Phone / Fax | F20: =Text!A16 -> E-mail (and / or website)
C23: =Text!A17 -> VAT-Nr.
D26: =Text!A18 -> details of application
D27: =Text!A19 -> - please tick where applicable -
C28: =Text!A76 -> There already is or was certification along against an RED scheme in place (SURE, REDcert, ISCC, 2BSvs, etc).
D29: =Text!A77 -> yes, according the following standard:
D30: =Text!A21 -> no, this is initial application for SURE
C32: =Text!A23 -> This application is regarding the certification according:
D33: ISCC-EU | E33: =Text!A24 -> EU - accepted scheme | G33: www.ISCC-system.org
D34: ISCC-PLUS | E34: =Text!A25 -> voluntary scheme | G34: www.ISCC-system.org
D35: =Text!#REF! -> #REF!
D36: =Text!#REF! -> #REF!
P37: FALSE | Q37: =IF(P37=TRUE,1,0) -> 0
C38: =Text!A28 -> the certification covers individual GreenHouse Gas calculation | P38: FALSE | Q38: =IF(P38=TRUE,8,0) -> 0
D39: =Text!A27 -> no | P39: FALSE | Q39: =IF(P39=TRUE,12,16) -> 16
D40: =Text!A29 -> for this (one) interface or | G40: =Text!A30 -> across several interfaces | L40: THG | P40: FALSE | Q40: =IF(P40=TRUE,24,20) -> 20
D41: =Text!A31 -> yes, for following goods and processes: | L41: SSt | M41: tool | N41: Dritte | Q41: =Q37+Q38+Q39+Q40 -> 36
D42: =Text!#REF! -> #REF! | J42: a | K42: 1 | L42: 1 | Q42: =IF(Q41<40,1,IF(Q41<44,2,3)) -> 1
D43: =Text!#REF! -> #REF! | J43: b | K43: >1 | L43: 8
D44: =Text!A32 -> the GHG calculation is basing on data of third parties (e.g. farms) | J44: c | K44: ja | M44: 12
J45: d | K45: nein | M45: 16
J46: e | K46: nein | N46: 20
C48: =Text!A35 -> The application for certification is filed regarding: | K48: ace | L48: =L42+M44+N46 -> 33 | N48: bce | O48: =L43+M44+N46 -> 40
D49: =Text!A36 -> grower (agricukture/forestry)
D50: =Text!A37 -> First Gathering Point (agriculture/forestry) | F50: =Text!A45 -> number of locations: | K50: ade | L50: =L42+M45+N46 -> 37 | N50: bde | O50: =L43+M45+N46 -> 44
D51: =Text!A38 -> Collecting Point (waste/residues) | F51: =Text!A45 -> number of locations: | K51: adf | L51: =L42+M45+#REF! -> #REF! | N51: bdf | O51: =L43+M45+#REF! -> #REF!
D52: =Text!A39 -> Storage company | F52: =Text!A45 -> number of locations:
D53: =Text!#REF! -> #REF! | F53: =Text!A45 -> number of locations:
D54: =Text!A40 -> Processing company | F54: =Text!A45 -> number of locations:
D55: =Text!A41 -> conversion units (electricity / heat generation)
...

Sheet Text
A1: Auswahl | B1: Deutsch | C1: English | D1: Russian | E1: Polish | F1: Dutch | G1: Espanol | H1: 한국어 | I1: Italian | J1: French | K1: Romanian | L1: Portuguese | M1: Hungarian | N1: Sprachwahlliste | O1: 2 | P1: Standard | Q1: 3
A2: =CHOOSE($O$1,B2,C2,D2,E2,F2,G2,H2,I2,J2,K2,L2,M2) -> APPLICATION FORM | B2: ANTRAGSFORMULAR | C2: APPLICATION FORM | D2: Бланк заявления | E2: FORMULARZ WNIOSKU | F2: AANMELDINGSFORMULIER | G2: FORMULARIO DE SOLICITUD | H2: 신청서 | I2: MODULO DI RICHIESTA | J2: DOCUMENT D'IDENTIFICATION | K2: Formular cerere | L2: Formulário de Solicitação | M2: JELENTKEZÉSI LAP | N2: Deutsch | P2: ISCC
A3: =CHOOSE($O$1,B3,C3,D3,E3,F3,G3,H3,I3,J3,K3,L3,M3) -> for inspection and certification for | B3: zur Inspektion und Zertifizierung zum | C3: for inspection and certification for | D3: по инспекции и сертификации для | E3: dotyczący przeprowadzenia kontroli i certyfikacji | F3: Inspectie en certificering voor | G3: para la inspección y certificación | H3: 심사 및 인증 프로그램: | I3: per l'ispezione e la certificazione per | J3: pour l'audit et la certification | K3: pentru inspecția și certificarea pentru | L3: para inspeção e certificação | M3: Ellenőrzéshez és tanúsításhoz | N3: English | P3: ISCC-EU
A4: =CHOOSE($O$1,B4,C4,D4,E4,F4,G4,H4,I4,J4,K4,L4,M4) -> approving sustainability according "Renewable Energy Directive" of European Commission (2018/2001) | B4: Nachweis der Nachhaltigkeit nach der "Erneuerbaren Energien Richtlinie" der Europäischen Kommission 2018/2001 | C4: approving sustainability according "Renewable Energy Directive" of European Commission (2018/2001) | D4: подтверждения статуса устойчивости в соответствии с «Директивой по Возобновляемой энергетике" Европейской комиссии № 28/2009/ЕС | E4: potwierdzający zrównoważone pochodzenie zgodnie z "Dyrektywą o Energii Odnawialnej" Komisji Europejskiej (28/2009/EC) | F4: goedkeuring van duurzaamheid volgens "Richtlijn Hernieuwbare Energie" van de Europese Commissie (28/2009 / EG) | G4: sustentabilidad aprobada de acuerdo a " Directiva de Energías Renovables" de la Comisión Europea (28/2009/EC) | H4: 유럽위원회의 "재생 에너지 법령" (28/2009/EC) 및/또는 자발적인 ISCC-Plus 인증에 따른 지속가능 에너지의 인증 | I4: approvazione della sostenibilità secondo la direttiva della Commissione Europea (28/2009/EC) "Direttiva sulle Energie Rinnovabili" | J4: approuvant la durabilité selon la “Directive Energies Renouvelables » de la Commission Européenne (28/2009/EC) | K4: Aproband sustenbilitatea in conformitate cu "Directiva de Energie Regenerabila"(28/2009/EC) a Comisiei Europene | L4: aprovando a sustentabilidade de acordo com a "Renewable Energy Directive" da Comissão Europeia (28/2009/EC) | M4: Fenntarthatóság jóváhagyása az Európai Bizottság "Megújuló Energia irányelve" (28/2009/EC) | N4: Russian | P4: REDcert-EU
A5: =CHOOSE($O$1,B5,C5,D5,E5,F5,G5,H5,I5,J5,K5,L5,M5) -> With this form you can request a tentative offer. | B5: Mit diesem Formular können Sie ein unverbindliches Angebot anfragen. | C5: With this form you can request a tentative offer. | D5: С помощью этой формы вы можете запросить предварительное предложение на сертификацию. | E5: Dzięki niniejszemu formularzowi istnieje możliwość pozyskania niezobowiązującej oferty | F5: Door middel van dit formulier kunt u een geheel vrijblijvende offerte ontvangen | G5: Complete el formulario y le enviaremos una oferta de servicios de certificación personalizada. | H5: 본 신청서를 작성하여 보내 주시면 제안서를 보내 드리겠습니다. | I5: Con questo modulo può essere richiesto un preventivo. | J5: Ce document permet de demander une offre de certification. | K5: Cu acest formular puteți obține o offertă fără obligați | L5: Com este formulário você pode requerer uma proposta. | M5: A jelentkezési lap kitöltésével kérhet ajánlatot. | N5: Polish
A6: =CHOOSE($O$1,B6,C6,D6,E6,F6,G6,H6,I6,J6,K6,L6,M6) -> 0 | N6: Dutch
A7: =CHOOSE($O$1,B7,C7,D7,E7,F7,G7,H7,I7,J7,K7,L7,M7) -> name and legal form of the applying company | B7: Name und Rechtsform des antragstellenden Unternehmens | C7: name and legal form of the applying company | D7: НАЗВАНИЕ и ПРАВОВАЯ ФОРМА предприятия, которое подает заявку | E7: Nazwa i forma prawna przedsiębiorstwa składającego wniosek | F7: Bedrijfsnaam | G7: nombre y razon social de la organisacion solicitante | H7: 신청업체의 상호 및 법적 현황 | I7: nome e froma societaria dellàzienda richiedente | J7: non et forme juridique de l'entreprise | K7: Numele și statutul juridic firmei | L7: NOME E RAZÃO SOCIAL DA EMPRESA SOLICITANTE | M7: VÁLLALKOZÁS NEVE ÉS JOGI FORMÁJA | N7: Espanol
A8: =CHOOSE($O$1,B8,C8,D8,E8,F8,G8,H8,I8,J8,K8,L8,M8) -> (Please enter the complete company name) | B8: (Bitte den vollständigen Namen des Unternehmens eintragen) | C8: (Please enter the complete company name) | D8: (пожалуйста, внесите полное название предприятия) | E8: (należy wpisać pełną nazwę przedsiębiorstwa) | F8: (AUB Vermeld de gehele bedrijfsnaam) | G8: (Por favor indique el nombre completo de la organización) | H8: 회사의 공식적인 국문 및 영문 이름을 써 주십시오. 예를 들어 Ltd., Inc, 포함. | I8: (Per favore inserire il nome completo dell'azienda) | J8: (Merci d'écrire le nom complet de l'entreprise) | K8: (Vă rugăm scrieți numele complet al firmei) | L8: (Por favor informe o nome completo da empresa) | M8: (a vállalkozás teljes nevét tüntesse fel) | N8: 한국의
A9: =CHOOSE($O$1,B9,C9,D9,E9,F9,G9,H9,I9,J9,K9,L9,M9) -> company address | B9: Adresse des Unternehmens | C9: company address | D9: АДРЕС предприятия | E9: ADRES przedsiębiorstwa | F9: ADRES VAN HET BEDRIJF | G9: DIRECCIÓN | H9: 회사 주소 | I9: INDIRIZZO DELL'AZIENDA | J9: ADRESSE de l'entreprise | K9: Adresa firmei | L9: ENDEREÇO DA EMPRESA | M9: VÁLLALKOZÁS SZÉKHELYE | N9: Italian
A10: =CHOOSE($O$1,B10,C10,D10,E10,F10,G10,H10,I10,J10,K10,L10,M10) -> (Street, postcode, city, state, post office box) | B10: (Straße, Postleitzahl, Stadt, Land, Postfach) | C10: (Street, postcode, city, state, post office box) | D10: (улица, почтовый индекс, город, страна, почтовый ящик) | E10: (ulica, kod pocztowy, miasto, kraj, skrytka pocztowa) | F10: (Straat, postcode, stad, postbusnr.) | G10: (Calle, Codigo postal, Ciudad, Provincia, Apartado de correos) | H10: 도, 군, 시, 면, 읍, 리, 길, 산, 우편번호 등 | I10: (Via, codice postale, città, stato, casella postale) | J10: (N°, rue, code postal, ville, boîte postale) | K10: (Strada, Cod poștal, Oraș, Țara, Numărul cutiei la poșta) | L10: (Rua, CEP, cidade, Estado, Caixa Postal) | M10: (irányítószám, város, utca, házszám, postafiók) | N10: French
A11: =CHOOSE($O$1,B11,C11,D11,E11,F11,G11,H11,I11,J11,K11,L11,M11) -> legal representative of the company | B11: Rechtsvertreter des Unternehmens | C11: legal representative of the company | D11: ПРАВОВОЙ ПРЕДСТАВИТЕЛЬ предприятия | E11: przedstawiciel prawny przedsiębiorstwa | F11: JURIDISCH VERANTWOORDELIJKE BINNEN HET BEDRIJF | G11: REPRESENTANTE LEGAL DE LA ORGANIZACIÓN | H11: 회사 대표 | I11: RAPPRESENTANTE LEGALE DELL'AZIENDA | J11: REPRESENTANT LEGAL de l'entreprise | K11: REPRESENTANTUL JURIDIC al firmei | L11: REPRESENTANTE LEGAL DA EMPRESA | M11: A VÁLLALKOZÁS KÉPVISELŐJE | N11: Romanian
A12: =CHOOSE($O$1,B12,C12,D12,E12,F12,G12,H12,I12,J12,K12,L12,M12) -> (Name and function) | B12: (Name und Funktion) | C12: (Name and function) | D12: (имя и должность) | E12: (personalia i funkcja) | F12: (Naam en functietitel) | G12: (Nombre y cargo) | H12: 이름 및 직책 | I12: (Nome e Funzione) | J12: (Nom et fonction) | K12: (Numele și Statutul persoanei) | L12: (Nome e função) | M12: (neve és beosztása) | N12: Portuguese
A13: =CHOOSE($O$1,B13,C13,D13,E13,F13,G13,H13,I13,J13,K13,L13,M13) -> contact person in the company | B13: Kontaktperson innerhalb des Unternehmens | C13: contact person in the company | D13: КОНТАКТНОЕ ЛИЦО на предприятии | E13: OSOBA DO KONTAKTÓW w przedsiębiorstwie | F13: CONTACTPERSOON IN HET BEDRIJF | G13: PERSONA DE CONTACTO EN LA ORGANIZACIÓN | H13: 인증 담당자(연락 담당자) | I13: PERSONA DI CONTATTO NELL'AZIENDA | J13: Personne désignée contact principal | K13: PERSOANA DE CONTACT la firma | L13: PESSOA DE CONTATO NA EMPRESA | M13: KAPCSOLATTARTÓ | N13: Hungarian
A14: =CHOOSE($O$1,B14,C14,D14,E14,F14,G14,H14,I14,J14,K14,L14,M14) -> (Please specify where not identical with the legal representative) | B14: (Bitte ausfüllen, wenn nicht mit dem Rechtsvertreter identisch) | C14: (Please specify where not identical with the legal representative) | D14: (пожалуйста, заполните, если не идентичный с правовым представителем) | E14: (należy wypełnić, jeżeli jest to inna osoba aniżeli osoba przedstawiciela prawnego) | F14: (In geval van verschillend met de juridisch verantwoordelijke) | G14: (Por favor, especifique siempre que no coincidan el representante legal y de la empresa) | H14: 담당자가 대표자와 다를 경우에 작성해 주십시오 | I14: (Per favore specificare nel caso non sia lo stesso Rappresentante Legale) | J14: (Merci de préciser au cas où le contact serait différent du représentant légal) | K14: (Vă rugăm completați în caz că nu este la fel ca Representantul juridic) | L14: (Por favor especifique quando não for idêntico ao representante legal) | M14: (ha más mint a képviselő)
A15: =CHOOSE($O$1,B15,C15,D15,E15,F15,G15,H15,I15,J15,K15,L15,M15) -> Phone / Fax | B15: Telefon / Fax | C15: Phone / Fax | D15: Телефон/факс | E15: Telefon / Faks | F15: Telefoon / Fax nummer | G15: Tlfn / Fax | H15: 전화번호 / 팩스 | I15: Telefono / Fax | J15: Téléphone/Fax | K15: Număr de telefon și fax | L15: Telefone / Fax | M15: Telefon/Fax
A16: =CHOOSE($O$1,B16,C16,D16,E16,F16,G16,H16,I16,J16,K16,L16,M16) -> E-mail (and / or website) | B16: E-mail (und / oder Webseite) | C16: E-mail (and / or website) | D16: e-mail: | E16: e-mail (i/ lub strona internetowa) | F16: E-mail (en / of website) | G16: E-mail (y/o website) | H16: 전자메일 및 홈페이지 | I16: E-mail (e /o sito web) | J16: E-mail (et site internet) | K16: Adresa E-Mail (și/ sau pagina internet) | L16: E-mail (e/ou website) | M16: E-mail (és/vagy weblap)
A17: =CHOOSE($O$1,B17,C17,D17,E17,F17,G17,H17,I17,J17,K17,L17,M17) -> VAT-Nr. | B17: UmSt-Nr.: | C17: VAT-Nr. | D17: Налоговый номер | E17: NIP / VAT-UE: | F17: BTW-Nr. | G17: CIF/NIF. | H17: 사업자등록번호 | I17: Partita IVA | J17: N° TVA | K17: TVA | L17: CNPJ | M17: Adószám
A18: =CHOOSE($O$1,B18,C18,D18,E18,F18,G18,H18,I18,J18,K18,L18,M18) -> details of application | B18: Antragdetails | C18: details of application | D18: Детали заявления | E18: Szczegóły wniosku | F18: Details van de aanmelding | G18: detalles del formulario | H18: 신청 내용 | I18: dettagli della richiesta | J18: Détails de la demande | K18: DETALII CEREREI | L18: detalhes da solicitação | M18: Jelentkezés adatai
A19: =CHOOSE($O$1,B19,C19,D19,E19,F19,G19,H19,I19,J19,K19,L19,M19) -> - please tick where applicable - | B19: - Bitte Zutreffendes ankreuzen - | C19: - please tick where applicable - | D19: - Пожалуйста, нужное отметьте крестиком - | E19: - właściwe informacje należy zaznaczyć krzyżykiem- | F19: - selecteer de gewenste opties, meerdere opties zijn mogelijk - | G19: - please tick where applicable - | H19: 해당되는 항목을 선택해 주십시오 | I19: - per favore segnare dove pertinente - | J19: merci de cocher | K19: (Vă rugăm bifați ce convine) | L19: por favor selecione onde aplicável: | M19: Kérjük, a vonatkozó részt jelölje.
A20: =CHOOSE($O$1,B20,C20,D20,E20,F20,G20,H20,I20,J20,K20,L20,M20) -> This application is: | B20: Der Antrag ist: | C20: This application is: | D20: Заявление является: | E20: Wniosek jest: | F20: Deze aanmelding is: | G20: Este cuestionario es: | H20: 신청 종류 | I20: Questa richiesta è una: | J20: Cette demande est : | K20: Aceasta cerere este: | L20: Esta solicitação é uma: | M20: A jelentkezés típusa
A21: =CHOOSE($O$1,B21,C21,D21,E21,F21,G21,H21,I21,J21,K21,L21,M21) -> no, this is initial application for SURE | B21: nein, dies ist ein Erstantrag für SURE | C21: no, this is initial application for SURE | D21: нет, Первым заявлением для SURE | E21: nie, to pierwszym wnioskiem dla SURE | F21: Nee, een eerste aanmelding voor SURE | G21: solicitud inicial | H21: 신규 신청 | I21: no, si tratta della prima richiesta per SURE | J21: Demande initiale pour SURE | K21: nu, aceasta este formularul initial pentru SURE | L21: não, esta é uma solicitação inicial para SURE | M21: Nem, ez egy első SURE jelentkezés
A22: =CHOOSE($O$1,B22,C22,D22,E22,F22,G22,H22,I22,J22,K22,L22,M22) -> supplementary application /application for change (if you are already client of CU) | B22: Ergänzungsantrag / Änderungsantrag (wenn Sie bereits Kunde der CU sind) | C22: supplementary application /application for change (if you are already client of CU) | D22: Дополнительным заявлением/ заявлением с внесением изменений (если Вы уже клиент CU) | E22: wniosek uzupełniający/zgłoszenie zmian(jeśli już są Państwo klientami CU) | F22: Een aanmelding voor verandering of aanvulling van het contract (indien al een klant van CU) | G22: solicitud suplementaria /solicitud de cambios (si ya se es cliente de CU) | H22: 추가 신청 / 변경 신청 (이미 CU 고객일 경우) | I22: richiesta aggiuntiva / richiesta di modifica (se si è già un cliente CU) | J22: Demande supplémentaire / demande de mise à jour (si vous êtes déjà client Control Union) | K22: Cerere de complementare / de schimbare (în caz că sunteți deja un client al grupului CU) | L22: solicitação adicional / solicitação para mudança (se você já é um cliente da CU) | M22: kiegészítő jelentkezés/változások regisztrálása (ha már a CU regisztrált ügyfele)
A23: =CHOOSE($O$1,B23,C23,D23,E23,F23,G23,H23,I23,J23,K23,L23,M23) -> This application is regarding the certification according: | B23: Der Antrag wird gestellt für die Zertifizierung nach: | C23: This application is regarding the certification according: | D23: Заявление подается на сертификацию согласно: | E23: Wniosek składa się celem certyfikacji wg: | F23: Deze aanmelding betreft: | G23: Esta solicitud es para la certificación de acuerdo a: | H23: 본 신청서는 다음의 인증 프로그램을 포함합니다. | I23: Questa applicazione riguarda la certificazione in accordo a: | J23: Cette demande de certification concerne : | K23: Cererea este submisă pentru certificare după | L23: Esta solicitação refere-se à certificação de acordo com: | M23: A következők szerint kéri a tanúsítást:
A24: =CHOOSE($O$1,B24,C24,D24,E24,F24,G24,H24,I24,J24,K24,L24,M24) -> EU - accepted scheme | B24: EU - Anerkanntes System | C24: EU - accepted scheme | D24: система принята (распространяется) в Европейском Союзе | E24: EU-moduł europejski | F24: EU - erkend schema | G24: EU - Programa aceptado | H24: EU - 유럽 프로그램 | I24: Schema accettato EU | J24: EU- reconnu par UE | K24: EU - System recunoscut | L24: EU - Esquema aceito | M24: EU szabvány szerint
A25: =CHOOSE($O$1,B25,C25,D25,E25,F25,G25,H25,I25,J25,K25,L25,M25) -> voluntary scheme | B25: freiwilliges System | C25: voluntary scheme | D25: добровольная схема | E25: system dobrowolny | F25: Vrijwillig schema | G25: esquema voluntario | H25: 자발적 프로그램 | I25: schema volontario | J25: schéma volontaire | K25: Schema voluntara | L25: Esquema voluntário | M25: önkéntes szabvány szerint
A26: =CHOOSE($O$1,B26,C26,D26,E26,F26,G26,H26,I26,J26,K26,L26,M26) -> Specifics of audit process: | B26: Besonderheiten des Auditprozess`: | C26: Specifics of audit process: | D26: Особенности процесса: | E26: Specyfikacja procesu: | F26: Processpecificaties | G26: Específicos del proceso | H26: 프로세스의 공정 세부 사항 | I26: Specifiche di processo: | J26: Spécificités du process: | K26: Specificatii ale procesului: nu, conform Anexei V a RED vor fi aplicate valorile implicite | L26: Especificação do processo de auditoria: | M26: Az auditálási folyamat ismertetése:
A27: =CHOOSE($O$1,B27,C27,D27,E27,F27,G27,H27,I27,J27,K27,L27,M27) -> no | B27: nein | C27: no | F27: nee, default values van de RED Annex V woorden gebruikt | H27: RED 부록 V의 기본 값을 적용합니다. | I27: no, verranno applicati i valori di default secondo l'allegato V di RED | J27: Non, valeurs par défaut de directive RED annexe V utilisées | L27: não, serão aplicados valores padrão de acordo com o Anexo V da RED | M27: nem, a RED V. Melléklet szerinti alapértékek lesznek alkalmazva
A28: =CHOOSE($O$1,B28,C28,D28,E28,F28,G28,H28,I28,J28,K28,L28,M28) -> the certification covers individual GreenHouse Gas calculation | B28: die Zertifizierung deckt individuelle TreibHausGasberechnungen | C28: the certification covers individual GreenHouse Gas calculation | D28: Сертификация охватывает проверку расчет выбросов парниковых газов | E28: certyfikacja obejmuje indywidualne obliczenia gazów cieplarnianych | F28: De certificering is inclusief individuale greenhouse gas calculatie | G28: la certificación cubre cálculos GEI individuales | H28: 인증은 개별 온실가스계산을 포함합니다. | I28: la certificazione include il calcolo di emissioni di Green House Gas | J28: La certification couvre le calcul individuel de Gaz Effet de Serre | K28: Certificarea acopera calculatia Emisiilor Gazelor cu efect de Sera | L28: a certificação cobre cálculo individual de emissão de Gás de Efeito Estufa (GHG) | M28: A tanúsítás lefedi az üvegházhatású gázok (GHG) egyedi kalkulációját
A29: =CHOOSE($O$1,B29,C29,D29,E29,F29,G29,H29,I29,J29,K29,L29,M29) -> for this (one) interface or | B29: für diese (eine) Schnittstelle oder | C29: for this (one) interface or | D29: для этого (одного) производственного объекта или | E29: dla tej (jednej) jednostki łącznikowej lub | F29: Voor deze (een) interface of voor meerdere interfaces | G29: para ésta (una) interface | H29: 이 하나의 인터페이스를 위해서 | I29: per questa (una) unità | J29: pour ce site ou | K29: Pentru o singura interfata sau | L29: para esta (uma)interface ou | M29: ezen az (egy) helyszínen/telepen vagy
A30: =CHOOSE($O$1,B30,C30,D30,E30,F30,G30,H30,I30,J30,K30,L30,M30) -> across several interfaces | B30: Schnittstellenübergreifend | C30: across several interfaces | D30: для нескольких производственных объектов | E30: dla kilku jednostek łącznikowych | F30: enkel voor deze interface, of | G30: a travez de varias interfaces | H30: 여러 개의 인터페이스에 대해서 | I30: per diverse unità | J30: ces sites | K30: pentru mai multe interfete | L30: em várias interfaces | M30: számos helyszínen/telepen
A31: =CHOOSE($O$1,B31,C31,D31,E31,F31,G31,H31,I31,J31,K31,L31,M31) -> yes, for following goods and processes: | B31: ja, für folgende Produkte und Prozesse: | C31: yes, for following goods and processes: | D31: для следующих товаров: | E31: dla następujących produktów/towarów | F31: ja, voor de volgende producten: | G31: para los siguientes bienes | H31: 다음 제품들을 위해서 | I31: si, per i seguenti prodotti | J31: oui, pour les produits suivants | K31: da, pentru urmatoarele produse: | L31: sim, para os seguintes produtos: | M31: igen, a következő termékekhez:
A32: =CHOOSE($O$1,B32,C32,D32,E32,F32,G32,H32,I32,J32,K32,L32,M32) -> the GHG calculation is basing on data of third parties (e.g. farms) | B32: die THG-Berechnungen beinhalten Daten dritter Unternehmen (z.B. Landwirte) | C32: the GHG calculation is basing on data of third parties (e.g. farms) | D32: Расчет выбросов парниковых газов основывается на информации от третих сторон (например фермерские хозяйства) | E32: obliczanie emisji gazów cieplarnianych opiera się na danych strony trzeciej (n.p. gospodarstw rolnych) | F32: De GHG calculatie is gebaseerd op data van derde partijen (bijv. Farms) | G32: los cálculos de GEI se basan en datos de un tercero (por ejemplo granjas | H32: 3자(예: 농장)의 자료를 기반으로 한 온실가스 계산 | I32: il calcolo dei GHG è basato su dati di terzi (es. aziende agricole) | J32: Le calcul GES est basée sur des données de tierce parties (ex : exploitations agricoles) | K32: Calculatia Gazelor cu Efect de Sera se bazeaza pe informatiile primite de la terti(ex. Ferme) | L32: o cálculo GHG é baseado em dados de terceiros (ex: fazendas) | M32: A GHG kalkulációt 3. fél adatai alapján készítették el (pl: gazdaságok)
A33: =CHOOSE($O$1,B33,C33,D33,E33,F33,G33,H33,I33,J33,K33,L33,M33) -> Procedure optimisation | B33: Verfahrensoptimierung | C33: Procedure optimisation | D33: Оптимизация процедуры сертификации | E33: Optymalizacja procesu | F33: Optimalisatie van de procedures | G33: Procedimiento de mejora | H33: 예비 심사 | I33: Ottimizzazione delle procedure | J33: Procédure facultative | K33: Optimarea proceselor | L33: Otimização do procedimento | M33: A folyamat részletezése:
A34: =CHOOSE($O$1,B34,C34,D34,E34,F34,G34,H34,I34,J34,K34,L34,M34) -> You would like to have a pre-assessment audit. | B34: Sie wünschen ein Voraudit. | C34: You would like to have a pre-assessment audit. | D34: Вы хотели бы провести предварительный аудит | E34: życzę sobie audyt wstępny | F34: Ik wens graag een pre-audit | G34: la organización desea aoptar por la auditoria preliminar. | H34: 예비 심사를 받고 싶습니다. | I34: Interessato a riceverere un audit di pre-valutazione. | J34: Vous voulez un audit à blanc (diagnostic préliminaire) | K34: Dumneavoastră doriți un audit înainte certificarei | L34: Você gostaria de ter uma pré-auditoria. | M34: Kér előzetes helyszíni szemlét.
A35: =CHOOSE($O$1,B35,C35,D35,E35,F35,G35,H35,I35,J35,K35,L35,M35) -> The application for certification is filed regarding: | B35: Der Antrag auf die Zertifizierung wird gestellt für: | C35: The application for certification is filed regarding: | D35: Заявление на сертификацию подается для: | E35: Wniosek o certyfikację jest składany dla: | F35: Deze aanmelding voor certificering is voor het volgende van toepassing: | G35: Se ha compluminetado la solicitud como: | H35: 작업 분야 (활동들) | I35: La richiesta di certificazione è presentata per : | J35: Votre demande de certification concerne : | K35: Cererea de certificare este pusă pentru: | L35: A solicitação de certificação está preenchida de acordo com: | M35: A tanúsítást az alábbiakra kéri:
A36: =CHOOSE($O$1,B36,C36,D36,E36,F36,G36,H36,I36,J36,K36,L36,M36) -> grower (agricukture/forestry) | B36: Erzeuger (Land-/Forstwirtschaft) | C36: grower (agricukture/forestry)
A37: =CHOOSE($O$1,B37,C37,D37,E37,F37,G37,H37,I37,J37,K37,L37,M37) -> First Gathering Point (agriculture/forestry) | B37: Ersterfasser (Land-/Forstwirtschaft) | C37: First Gathering Point (agriculture/forestry) | D37: Первая точка сбора (сельское хозяйство) | E37: Nabywca pierwotny (rolnictwo) | F37: Inzamelaar (Agrarische producten) | G37: Primer punto de colección (agricultura) | H37: First Gathering Point (agriculture) | I37: Primo Punto di Raccolta dii stock (agricoltura) | J37: Collecte (agricole) | K37: Primul punct de adunare (agricultură) | L37: Primeiro Ponto de Recolhimento (agricultura) | M37: Első begyűjtési pont (mezőgazdaság)
A38: =CHOOSE($O$1,B38,C38,D38,E38,F38,G38,H38,I38,J38,K38,L38,M38) -> Collecting Point (waste/residues) | B38: Sammler (Reststoffe/Abfälle) | C38: Collecting Point (waste/residues) | D38: Первая точка сбора (отходов / остатков) | E38: Nabywca pierwotny (odpady/pozostałości) | F38: Inzamelaar (Rest- en afvalstoffen) | G38: Primer punto de colección (restos/residuos) | H38: First Gathering Point (waste/residues) | I38: Punto di Stoccaggio (rifiuti/residui) | J38: Collecte (déchets/résidus) | K38: Punct de colectare (deseuri/reziduuri) | L38: Primeiro Ponto de Recolhimento (restos/resíduos) | M38: begyűjtési pont (hulladék/maradványok)
A39: =CHOOSE($O$1,B39,C39,D39,E39,F39,G39,H39,I39,J39,K39,L39,M39) -> Storage company | B39: Lagerunternehmen | C39: Storage company | D39: Компания по складированию | E39: Przedsiębiorstwo magazynujące (biomasa stała) | F39: Opslaglocatie | G39: Organización/unidad de almacenaje (biomass solida) | H39: Storage company (solid biomass) | I39: Azienda di stoccaggio | J39: Stockage | K39: Firma de depozitare | L39: Empresa de armazenagem | M39: Tárolást végző cég
A40: =CHOOSE($O$1,B40,C40,D40,E40,F40,G40,H40,I40,J40,K40,L40,M40) -> Processing company | B40: Verarbeitungsunternehmen | C40: Processing company | D40: Компания переработчик (маслобойня, сушилка и.т.д.) | E40: Jednostka przetwarzająca | F40: Conversie | G40: Organización/unidad de procesamiento | H40: Processing company | I40: Azienda di trasformazione | J40: Transformation | K40: Firmă de prelucrare | L40: Empresa de processamento | M40: Feldolgozó cég
...

Sheet __Goal_Metadata
A1: _KAW999934 | B1: J
A2: _KAW999929 | B2: 60439f37-d936-4645-b07b-cf2e97aee55e
